BEGIN:VCALENDAR
VERSION:2.0
PRODID:-//demosphere.net//NONSGML kigkonsult.se iCalcreator 2.22.1//
METHOD:REQUEST
X-WR-TIMEZONE:Europe/Paris
BEGIN:VEVENT
UID:https://safe.gironde.demosphere.net/rv/13092
DTSTAMP:20230502T080000Z
DESCRIPTION:plus d'infos sur : https://safe.gironde.demosphere.net/rv/13092
DTSTART:20230502T080000Z
DTEND:20230502T090000Z
LOCATION:Bordeaux\, \nRécup'r \n206 rue Carles Vernet \n33000 Bordeaux
SUMMARY:Mécanique vélo collective - Journées conviviales de préparations co
 llectives
URL:https://safe.gironde.demosphere.net/rv/13092
END:VEVENT
END:VCALENDAR
