BEGIN:VCALENDAR
VERSION:2.0
PRODID:-//demosphere.net//NONSGML kigkonsult.se iCalcreator 2.22.1//
METHOD:REQUEST
X-WR-TIMEZONE:Europe/Paris
BEGIN:VEVENT
UID:https://safe.gironde.demosphere.net/rv/12829
DTSTAMP:20230323T153000Z
DESCRIPTION:plus d'infos sur : https://safe.gironde.demosphere.net/rv/12829
DTSTART:20230323T153000Z
DTEND:20230323T163000Z
LOCATION:Lormont\, \nSalle Castelldefels \nen bordure de Garonne quai Vial 
 \n33310 Lormont
SUMMARY: Mouvement 49-3 - AG des luttes
URL:https://safe.gironde.demosphere.net/rv/12829
END:VEVENT
END:VCALENDAR
