BEGIN:VCALENDAR
VERSION:2.0
PRODID:-//demosphere.net//NONSGML kigkonsult.se iCalcreator 2.22.1//
METHOD:REQUEST
X-WR-TIMEZONE:Europe/Paris
BEGIN:VEVENT
UID:https://safe.gironde.demosphere.net/rv/12530
DTSTAMP:20230108T120000Z
DESCRIPTION:plus d'infos sur : https://safe.gironde.demosphere.net/rv/12530
DTSTART:20230108T120000Z
DTEND:20230108T130000Z
LOCATION:Bordeaux\, \nMiroir d'eau \n33000 Bordeaux
SUMMARY:MANIFESTATION KURDE A BORDEAUX
URL:https://safe.gironde.demosphere.net/rv/12530
END:VEVENT
END:VCALENDAR
