BEGIN:VCALENDAR
VERSION:2.0
PRODID:-//demosphere.net//NONSGML kigkonsult.se iCalcreator 2.22.1//
METHOD:REQUEST
X-WR-TIMEZONE:Europe/Paris
BEGIN:VEVENT
UID:https://safe.gironde.demosphere.net/rv/12245
DTSTAMP:20220919T163000Z
DESCRIPTION:plus d'infos sur : https://safe.gironde.demosphere.net/rv/12245
DTSTART:20220919T163000Z
DTEND:20220919T173000Z
LOCATION:Bordeaux\, \nRécup'r \n206 rue Carle Vernet \nBordeaux
SUMMARY:Biclouves - Apéro de rentrée - Atelier mécanique vélo en mixité cho
 isie
URL:https://safe.gironde.demosphere.net/rv/12245
END:VEVENT
END:VCALENDAR
