BEGIN:VCALENDAR
VERSION:2.0
PRODID:-//demosphere.net//NONSGML kigkonsult.se iCalcreator 2.22.1//
METHOD:REQUEST
X-WR-TIMEZONE:Europe/Paris
BEGIN:VEVENT
UID:https://safe.gironde.demosphere.net/rv/11794
DTSTAMP:20220507T080000Z
DESCRIPTION:plus d'infos sur : https://safe.gironde.demosphere.net/rv/11794
DTSTART:20220507T080000Z
DTEND:20220507T090000Z
LOCATION:Bordeaux\, \nRécup'r \n206 rue Carle Vernet \nBordeaux
SUMMARY:Recycl'Hop - Journée festive et conviviale
URL:https://safe.gironde.demosphere.net/rv/11794
END:VEVENT
END:VCALENDAR
