BEGIN:VCALENDAR
VERSION:2.0
PRODID:-//demosphere.net//NONSGML kigkonsult.se iCalcreator 2.22.1//
METHOD:REQUEST
X-WR-TIMEZONE:Europe/Paris
BEGIN:VEVENT
UID:https://safe.gironde.demosphere.net/rv/11782
DTSTAMP:20220311T183000Z
DESCRIPTION:plus d'infos sur : https://safe.gironde.demosphere.net/rv/11782
DTSTART:20220311T183000Z
DTEND:20220311T193000Z
LOCATION:Bordeaux\, \nAthénée Libertaire \n7 rue du Muguet \n33000 Bordeaux
SUMMARY:Rencontre - Marine Peyrard autour de son livre 'Viande à viol'
URL:https://safe.gironde.demosphere.net/rv/11782
END:VEVENT
END:VCALENDAR
