BEGIN:VCALENDAR
VERSION:2.0
PRODID:-//demosphere.net//NONSGML kigkonsult.se iCalcreator 2.22.1//
METHOD:REQUEST
X-WR-TIMEZONE:Europe/Paris
BEGIN:VEVENT
UID:https://safe.gironde.demosphere.net/rv/11748
DTSTAMP:20220219T130000Z
DESCRIPTION:plus d'infos sur : https://safe.gironde.demosphere.net/rv/11748
DTSTART:20220219T130000Z
DTEND:20220219T140000Z
LOCATION:Bordeaux\, \nRécup'r \n206 rue Carle Vernet \nBordeaux
SUMMARY:Vide Atelier - Vélo & Couture
URL:https://safe.gironde.demosphere.net/rv/11748
END:VEVENT
END:VCALENDAR
