BEGIN:VCALENDAR
VERSION:2.0
PRODID:-//demosphere.net//NONSGML kigkonsult.se iCalcreator 2.22.1//
METHOD:REQUEST
X-WR-TIMEZONE:Europe/Paris
BEGIN:VEVENT
UID:https://safe.gironde.demosphere.net/rv/11679
DTSTAMP:20211204T090000Z
DESCRIPTION:plus d'infos sur : https://safe.gironde.demosphere.net/rv/11679
DTSTART:20211204T090000Z
DTEND:20211204T100000Z
LOCATION:Bordeaux\, \nRécup'r \n206 rue Carle Vernet \nBordeaux
SUMMARY:Bourse aux vélos et vente de créations couture
URL:https://safe.gironde.demosphere.net/rv/11679
END:VEVENT
END:VCALENDAR
