BEGIN:VCALENDAR
VERSION:2.0
PRODID:-//demosphere.net//NONSGML kigkonsult.se iCalcreator 2.22.1//
METHOD:REQUEST
X-WR-TIMEZONE:Europe/Paris
BEGIN:VEVENT
UID:https://safe.gironde.demosphere.net/rv/11650
DTSTAMP:20211127T090000Z
DESCRIPTION:plus d'infos sur : https://safe.gironde.demosphere.net/rv/11650
DTSTART:20211127T090000Z
DTEND:20211127T100000Z
LOCATION:Bordeaux\, \nRecup'r 206 rue Carles Vernet
SUMMARY:Ateliers Parents Enfants fabrication d'éponge Tawashi
URL:https://safe.gironde.demosphere.net/rv/11650
END:VEVENT
END:VCALENDAR
