BEGIN:VCALENDAR
VERSION:2.0
PRODID:-//demosphere.net//NONSGML kigkonsult.se iCalcreator 2.22.1//
METHOD:REQUEST
X-WR-TIMEZONE:Europe/Paris
BEGIN:VEVENT
UID:https://safe.gironde.demosphere.net/rv/11544
DTSTAMP:20211016T120000Z
DESCRIPTION:plus d'infos sur : https://safe.gironde.demosphere.net/rv/11544
DTSTART:20211016T120000Z
DTEND:20211016T130000Z
LOCATION:Bègles\, \nLe Radis Noir \n37 bis rue Pauly \n33130 Bègles
SUMMARY:Repair Café Bordeaux au Radis noir
URL:https://safe.gironde.demosphere.net/rv/11544
END:VEVENT
END:VCALENDAR
