BEGIN:VCALENDAR
VERSION:2.0
PRODID:-//demosphere.net//NONSGML kigkonsult.se iCalcreator 2.22.1//
METHOD:REQUEST
X-WR-TIMEZONE:Europe/Paris
BEGIN:VEVENT
UID:https://safe.gironde.demosphere.net/rv/11510
DTSTAMP:20211005T170000Z
DESCRIPTION:plus d'infos sur : https://safe.gironde.demosphere.net/rv/11510
DTSTART:20211005T170000Z
DTEND:20211005T180000Z
LOCATION:Bordeaux\, \nAthénée Libertaire \n7 rue du Muguet \n33000 Bordeaux
SUMMARY:'Asturies 1934. Une révolution sans chefs' + Projection ' los labio
 s apretados '
URL:https://safe.gironde.demosphere.net/rv/11510
END:VEVENT
END:VCALENDAR
