BEGIN:VCALENDAR
VERSION:2.0
PRODID:-//demosphere.net//NONSGML kigkonsult.se iCalcreator 2.22.1//
METHOD:REQUEST
X-WR-TIMEZONE:Europe/Paris
BEGIN:VEVENT
UID:https://safe.gironde.demosphere.net/rv/11482
DTSTAMP:20210911T113000Z
DESCRIPTION:plus d'infos sur : https://safe.gironde.demosphere.net/rv/11482
DTSTART:20210911T113000Z
DTEND:20210911T123000Z
LOCATION:Bordeaux\, \nMiroir d'eau \n33000 Bordeaux
SUMMARY:Marche des convergence - Anticaptaliste et antifasciste
URL:https://safe.gironde.demosphere.net/rv/11482
END:VEVENT
END:VCALENDAR
