BEGIN:VCALENDAR
VERSION:2.0
PRODID:-//demosphere.net//NONSGML kigkonsult.se iCalcreator 2.22.1//
METHOD:REQUEST
X-WR-TIMEZONE:Europe/Paris
BEGIN:VEVENT
UID:https://safe.gironde.demosphere.net/rv/11262
DTSTAMP:20210624T173000Z
DESCRIPTION:plus d'infos sur : https://safe.gironde.demosphere.net/rv/11262
DTSTART:20210624T173000Z
DTEND:20210624T183000Z
LOCATION:Bordeaux\, \nAthénée Libertaire \n7 rue du Muguet \n33000 Bordeaux
SUMMARY:Rencontre autour de la question du nucleaire autour du livre ' Oubl
 ier Fukushima '
URL:https://safe.gironde.demosphere.net/rv/11262
END:VEVENT
END:VCALENDAR
