BEGIN:VCALENDAR
VERSION:2.0
PRODID:-//demosphere.net//NONSGML kigkonsult.se iCalcreator 2.22.1//
METHOD:REQUEST
X-WR-TIMEZONE:Europe/Paris
BEGIN:VEVENT
UID:https://safe.gironde.demosphere.net/rv/11144
DTSTAMP:20210313T130000Z
DESCRIPTION:plus d'infos sur : https://safe.gironde.demosphere.net/rv/11144
DTSTART:20210313T130000Z
DTEND:20210313T140000Z
LOCATION:Bordeaux\, \nMiroir d'eau \n33000 Bordeaux
SUMMARY:Stop aux mesures sanitaires disproportionnées à l'école
URL:https://safe.gironde.demosphere.net/rv/11144
END:VEVENT
END:VCALENDAR
