BEGIN:VCALENDAR
VERSION:2.0
PRODID:-//demosphere.net//NONSGML kigkonsult.se iCalcreator 2.22.1//
METHOD:REQUEST
X-WR-TIMEZONE:Europe/Paris
BEGIN:VEVENT
UID:https://safe.gironde.demosphere.net/rv/11083
DTSTAMP:20210215T170000Z
DESCRIPTION:plus d'infos sur : https://safe.gironde.demosphere.net/rv/11083
DTSTART:20210215T170000Z
DTEND:20210215T180000Z
LOCATION:Bordeaux\, \nRécup'r \n206 rue Carle Vernet \nBordeaux
SUMMARY:Atelier vélo - En non-mixité choisie !
URL:https://safe.gironde.demosphere.net/rv/11083
END:VEVENT
END:VCALENDAR
