BEGIN:VCALENDAR
VERSION:2.0
PRODID:-//demosphere.net//NONSGML kigkonsult.se iCalcreator 2.22.1//
METHOD:REQUEST
X-WR-TIMEZONE:Europe/Paris
BEGIN:VEVENT
UID:https://safe.gironde.demosphere.net/rv/11069
DTSTAMP:20210118T170000Z
DESCRIPTION:plus d'infos sur : https://safe.gironde.demosphere.net/rv/11069
DTSTART:20210118T170000Z
DTEND:20210118T180000Z
LOCATION:Bordeaux\, \nRécup'r \n206 rue Carle Vernet \nBordeaux
SUMMARY:Réparation - Atelier mécanique vélo en mixité choisie
URL:https://safe.gironde.demosphere.net/rv/11069
END:VEVENT
END:VCALENDAR
