BEGIN:VCALENDAR
VERSION:2.0
PRODID:-//demosphere.net//NONSGML kigkonsult.se iCalcreator 2.22.1//
METHOD:REQUEST
X-WR-TIMEZONE:Europe/Paris
BEGIN:VEVENT
UID:https://safe.gironde.demosphere.net/rv/10910
DTSTAMP:20200921T160000Z
DESCRIPTION:plus d'infos sur : https://safe.gironde.demosphere.net/rv/10910
DTSTART:20200921T160000Z
DTEND:20200921T170000Z
LOCATION:Bordeaux\, \nRécup'r \n206 rue Carle Vernet \nBordeaux
SUMMARY:Atelier Biclouves - Réparation vélo en mixité choisie
URL:https://safe.gironde.demosphere.net/rv/10910
END:VEVENT
END:VCALENDAR
