BEGIN:VCALENDAR
VERSION:2.0
PRODID:-//demosphere.net//NONSGML kigkonsult.se iCalcreator 2.22.1//
METHOD:REQUEST
X-WR-TIMEZONE:Europe/Paris
BEGIN:VEVENT
UID:https://safe.gironde.demosphere.net/rv/10537
DTSTAMP:20191216T190000Z
DESCRIPTION:plus d'infos sur : https://safe.gironde.demosphere.net/rv/10537
DTSTART:20191216T190000Z
DTEND:20191216T200000Z
LOCATION:Libourne\, \nGrand Écran de Libourne \n56 avenue Galliéni \n33500 
 Libourne
SUMMARY:Bobine de Cin'enlib - « L'orphelinat »
URL:https://safe.gironde.demosphere.net/rv/10537
END:VEVENT
END:VCALENDAR
