BEGIN:VCALENDAR
VERSION:2.0
PRODID:-//demosphere.net//NONSGML kigkonsult.se iCalcreator 2.22.1//
METHOD:REQUEST
X-WR-TIMEZONE:Europe/Paris
BEGIN:VEVENT
UID:https://safe.gironde.demosphere.net/rv/10533
DTSTAMP:20191208T133000Z
DESCRIPTION:plus d'infos sur : https://safe.gironde.demosphere.net/rv/10533
DTSTART:20191208T133000Z
DTEND:20191208T143000Z
LOCATION:Bordeaux\, \nMiroir d'eau \n33000 Bordeaux
SUMMARY:Marche pour le climat -On veut respirer
URL:https://safe.gironde.demosphere.net/rv/10533
END:VEVENT
END:VCALENDAR
