BEGIN:VCALENDAR
VERSION:2.0
PRODID:-//demosphere.net//NONSGML kigkonsult.se iCalcreator 2.22.1//
METHOD:REQUEST
X-WR-TIMEZONE:Europe/Paris
BEGIN:VEVENT
UID:https://safe.gironde.demosphere.net/rv/10501
DTSTAMP:20191126T191500Z
DESCRIPTION:plus d'infos sur : https://safe.gironde.demosphere.net/rv/10501
DTSTART:20191126T191500Z
DTEND:20191126T201500Z
LOCATION:Libourne\, \nGrand Écran de Libourne \n56 avenue Galliéni \n33500 
 Libourne
SUMMARY:Projection/Débat - 'Vif argent'
URL:https://safe.gironde.demosphere.net/rv/10501
END:VEVENT
END:VCALENDAR
