BEGIN:VCALENDAR
VERSION:2.0
PRODID:-//demosphere.net//NONSGML kigkonsult.se iCalcreator 2.22.1//
METHOD:REQUEST
X-WR-TIMEZONE:Europe/Paris
BEGIN:VEVENT
UID:https://safe.gironde.demosphere.net/rv/10004
DTSTAMP:20190622T083000Z
DESCRIPTION:plus d'infos sur : https://safe.gironde.demosphere.net/rv/10004
DTSTART:20190622T083000Z
DTEND:20190622T093000Z
LOCATION:Bordeaux\, \nMarché des Douves \n4 rue des Douves \n33800 Bordeaux
SUMMARY:Le Bruit Des Corps - Ateliers Théâtre & Danse
URL:https://safe.gironde.demosphere.net/rv/10004
END:VEVENT
END:VCALENDAR
